BEGIN:VCALENDAR
VERSION:2.0
PRODID:-//Steele County Mounted Posse - ECPv6.15.20//NONSGML v1.0//EN
CALSCALE:GREGORIAN
METHOD:PUBLISH
X-ORIGINAL-URL:http://steelecountymountedposse.com
X-WR-CALDESC:Events for Steele County Mounted Posse
REFRESH-INTERVAL;VALUE=DURATION:PT1H
X-Robots-Tag:noindex
X-PUBLISHED-TTL:PT1H
BEGIN:VTIMEZONE
TZID:America/Chicago
BEGIN:DAYLIGHT
TZOFFSETFROM:-0600
TZOFFSETTO:-0500
TZNAME:CDT
DTSTART:20250309T080000
END:DAYLIGHT
BEGIN:STANDARD
TZOFFSETFROM:-0500
TZOFFSETTO:-0600
TZNAME:CST
DTSTART:20251102T070000
END:STANDARD
BEGIN:DAYLIGHT
TZOFFSETFROM:-0600
TZOFFSETTO:-0500
TZNAME:CDT
DTSTART:20260308T080000
END:DAYLIGHT
BEGIN:STANDARD
TZOFFSETFROM:-0500
TZOFFSETTO:-0600
TZNAME:CST
DTSTART:20261101T070000
END:STANDARD
BEGIN:DAYLIGHT
TZOFFSETFROM:-0600
TZOFFSETTO:-0500
TZNAME:CDT
DTSTART:20270314T080000
END:DAYLIGHT
BEGIN:STANDARD
TZOFFSETFROM:-0500
TZOFFSETTO:-0600
TZNAME:CST
DTSTART:20271107T070000
END:STANDARD
END:VTIMEZONE
BEGIN:VEVENT
DTSTART;TZID=America/Chicago:20260520T180000
DTEND;TZID=America/Chicago:20260520T210000
DTSTAMP:20260423T151132
CREATED:20260210T144430Z
LAST-MODIFIED:20260210T144430Z
UID:1294-1779300000-1779310800@steelecountymountedposse.com
SUMMARY:Monthly SCMP Meeting/Parade Practice 2026
DESCRIPTION:Meet at Fairgrounds Posse Barn. \nMeeting probably EARLIER to practice for Memorial Day Parade which is scheduled for OWATONNA. \n 
URL:http://steelecountymountedposse.com/event/monthly-scmp-meeting-parade-practice-2026/
LOCATION:Steele County Fairgrounds\, Owatonna\, 55060
CATEGORIES:Member Event,Prospective Member Introductions,Public Event
END:VEVENT
END:VCALENDAR