BEGIN:VCALENDAR
VERSION:2.0
PRODID:-//Steele County Mounted Posse - ECPv6.15.20//NONSGML v1.0//EN
CALSCALE:GREGORIAN
METHOD:PUBLISH
X-ORIGINAL-URL:http://steelecountymountedposse.com
X-WR-CALDESC:Events for Steele County Mounted Posse
REFRESH-INTERVAL;VALUE=DURATION:PT1H
X-Robots-Tag:noindex
X-PUBLISHED-TTL:PT1H
BEGIN:VTIMEZONE
TZID:America/Chicago
BEGIN:DAYLIGHT
TZOFFSETFROM:-0600
TZOFFSETTO:-0500
TZNAME:CDT
DTSTART:20190310T080000
END:DAYLIGHT
BEGIN:STANDARD
TZOFFSETFROM:-0500
TZOFFSETTO:-0600
TZNAME:CST
DTSTART:20191103T070000
END:STANDARD
BEGIN:DAYLIGHT
TZOFFSETFROM:-0600
TZOFFSETTO:-0500
TZNAME:CDT
DTSTART:20200308T080000
END:DAYLIGHT
BEGIN:STANDARD
TZOFFSETFROM:-0500
TZOFFSETTO:-0600
TZNAME:CST
DTSTART:20201101T070000
END:STANDARD
BEGIN:DAYLIGHT
TZOFFSETFROM:-0600
TZOFFSETTO:-0500
TZNAME:CDT
DTSTART:20210314T080000
END:DAYLIGHT
BEGIN:STANDARD
TZOFFSETFROM:-0500
TZOFFSETTO:-0600
TZNAME:CST
DTSTART:20211107T070000
END:STANDARD
BEGIN:DAYLIGHT
TZOFFSETFROM:-0600
TZOFFSETTO:-0500
TZNAME:CDT
DTSTART:20220313T080000
END:DAYLIGHT
BEGIN:STANDARD
TZOFFSETFROM:-0500
TZOFFSETTO:-0600
TZNAME:CST
DTSTART:20221106T070000
END:STANDARD
BEGIN:DAYLIGHT
TZOFFSETFROM:-0600
TZOFFSETTO:-0500
TZNAME:CDT
DTSTART:20230312T080000
END:DAYLIGHT
BEGIN:STANDARD
TZOFFSETFROM:-0500
TZOFFSETTO:-0600
TZNAME:CST
DTSTART:20231105T070000
END:STANDARD
BEGIN:DAYLIGHT
TZOFFSETFROM:-0600
TZOFFSETTO:-0500
TZNAME:CDT
DTSTART:20240310T080000
END:DAYLIGHT
BEGIN:STANDARD
TZOFFSETFROM:-0500
TZOFFSETTO:-0600
TZNAME:CST
DTSTART:20241103T070000
END:STANDARD
BEGIN:DAYLIGHT
TZOFFSETFROM:-0600
TZOFFSETTO:-0500
TZNAME:CDT
DTSTART:20250309T080000
END:DAYLIGHT
BEGIN:STANDARD
TZOFFSETFROM:-0500
TZOFFSETTO:-0600
TZNAME:CST
DTSTART:20251102T070000
END:STANDARD
BEGIN:DAYLIGHT
TZOFFSETFROM:-0600
TZOFFSETTO:-0500
TZNAME:CDT
DTSTART:20260308T080000
END:DAYLIGHT
BEGIN:STANDARD
TZOFFSETFROM:-0500
TZOFFSETTO:-0600
TZNAME:CST
DTSTART:20261101T070000
END:STANDARD
BEGIN:DAYLIGHT
TZOFFSETFROM:-0600
TZOFFSETTO:-0500
TZNAME:CDT
DTSTART:20270314T080000
END:DAYLIGHT
BEGIN:STANDARD
TZOFFSETFROM:-0500
TZOFFSETTO:-0600
TZNAME:CST
DTSTART:20271107T070000
END:STANDARD
END:VTIMEZONE
BEGIN:VEVENT
DTSTART;TZID=America/Chicago:20260415T183000
DTEND;TZID=America/Chicago:20260415T200000
DTSTAMP:20260423T151511
CREATED:20260210T142807Z
LAST-MODIFIED:20260210T142807Z
UID:1286-1776277800-1776283200@steelecountymountedposse.com
SUMMARY:SCMP Monthly meeting-2026
DESCRIPTION:
URL:http://steelecountymountedposse.com/event/scmp-monthly-meeting-2026/
LOCATION:Owatonna VFW\, 135 Oakdale St.\, Owatonna\, MN\, 55060\, United States
CATEGORIES:Member Event,Prospective Member Introductions,Public Event
END:VEVENT
BEGIN:VEVENT
DTSTART;TZID=America/Chicago:20260321T143000
DTEND;TZID=America/Chicago:20260321T220000
DTSTAMP:20260423T151511
CREATED:20251029T145954Z
LAST-MODIFIED:20260210T143112Z
UID:1254-1774103400-1774130400@steelecountymountedposse.com
SUMMARY:57th Annual MSMPA Convention & Annual Meeting
DESCRIPTION:2026 STATE CONVENTION for MSMPA is hosted by Nicolette County Sheriff’s Posse. \nOpen to the Public.  This is a fun event with Live and Silent Auctions\, Meal\, Awards\, Scholarships.
URL:http://steelecountymountedposse.com/event/57th-annual-msmpa-convention-annual-meeting/
LOCATION:Nicolette American Legion\, 715 N 3rd St\, Nicolette\, MN\, 56074\, United States
CATEGORIES:Member Event,Public Event
END:VEVENT
BEGIN:VEVENT
DTSTART;TZID=America/Chicago:20260318T183000
DTEND;TZID=America/Chicago:20260318T200000
DTSTAMP:20260423T151511
CREATED:20260111T220421Z
LAST-MODIFIED:20260111T220421Z
UID:1270-1773858600-1773864000@steelecountymountedposse.com
SUMMARY:Monthly SCMP meeting
DESCRIPTION:
URL:http://steelecountymountedposse.com/event/monthly-scmp-meeting-2/
LOCATION:Owatonna VFW\, 135 Oakdale St.\, Owatonna\, MN\, 55060\, United States
CATEGORIES:Member Event,Prospective Member Introductions,Public Event
END:VEVENT
BEGIN:VEVENT
DTSTART;TZID=America/Chicago:20260225T183000
DTEND;TZID=America/Chicago:20260225T200000
DTSTAMP:20260423T151511
CREATED:20260225T152857Z
LAST-MODIFIED:20260111T220129Z
UID:1252-1772044200-1772049600@steelecountymountedposse.com
SUMMARY:Monthly SCMP meeting-one week late
DESCRIPTION:This meeting is one week later than normal due to meeting room availability.
URL:http://steelecountymountedposse.com/event/monthly-scmp-meeting/
LOCATION:Owatonna VFW\, 135 Oakdale St.\, Owatonna\, MN\, 55060\, United States
CATEGORIES:Member Event,Prospective Member Introductions,Public Event
END:VEVENT
BEGIN:VEVENT
DTSTART;TZID=America/Chicago:20260121T183000
DTEND;TZID=America/Chicago:20260121T200000
DTSTAMP:20260423T151511
CREATED:20260111T214125Z
LAST-MODIFIED:20260111T214125Z
UID:1262-1769020200-1769025600@steelecountymountedposse.com
SUMMARY:Monthly SCMP meeting. New Member Introductions
DESCRIPTION:
URL:http://steelecountymountedposse.com/event/monthly-scmp-meeting-new-member-introductions/
LOCATION:Owatonna VFW\, 135 Oakdale St.\, Owatonna\, MN\, 55060\, United States
CATEGORIES:Member Event,Prospective Member Introductions,Public Event
END:VEVENT
BEGIN:VEVENT
DTSTART;TZID=America/Chicago:20260110T170000
DTEND;TZID=America/Chicago:20260110T210000
DTSTAMP:20260423T151511
CREATED:20251029T142521Z
LAST-MODIFIED:20260111T213944Z
UID:1250-1768064400-1768078800@steelecountymountedposse.com
SUMMARY:SCMP Christmas Party!
DESCRIPTION:
URL:http://steelecountymountedposse.com/event/scmp-christmas-party-2/
LOCATION:TBD
CATEGORIES:Member Event,Prospective Member Introductions,Public Event
END:VEVENT
BEGIN:VEVENT
DTSTART;TZID=America/Chicago:20251015T183000
DTEND;TZID=America/Chicago:20251015T193000
DTSTAMP:20260423T151511
CREATED:20251029T142341Z
LAST-MODIFIED:20251029T142341Z
UID:1248-1760553000-1760556600@steelecountymountedposse.com
SUMMARY:Monthly Posse meeting
DESCRIPTION:
URL:http://steelecountymountedposse.com/event/monthly-posse-meeting/
LOCATION:Owatonna VFW\, 135 Oakdale St.\, Owatonna\, MN\, 55060\, United States
CATEGORIES:Member Event,Prospective Member Introductions,Public Event
END:VEVENT
BEGIN:VEVENT
DTSTART;VALUE=DATE:20250904
DTEND;VALUE=DATE:20250908
DTSTAMP:20260423T151511
CREATED:20250120T152306Z
LAST-MODIFIED:20250425T160606Z
UID:1151-1756944000-1757289599@steelecountymountedposse.com
SUMMARY:2025 Wagon Train Hosted by Waseca County
DESCRIPTION:
URL:http://steelecountymountedposse.com/event/2025-wagon-train-hosted-by-waseca-county/
LOCATION:Waseca County Fairground
CATEGORIES:Public Event
END:VEVENT
BEGIN:VEVENT
DTSTART;VALUE=DATE:20250719
DTEND;VALUE=DATE:20250720
DTSTAMP:20260423T151511
CREATED:20250425T161754Z
LAST-MODIFIED:20250425T161754Z
UID:1218-1752883200-1752969599@steelecountymountedposse.com
SUMMARY:SCMP Sensory Training at Steele Co Fairgrounds
DESCRIPTION:
URL:http://steelecountymountedposse.com/event/scmp-sensory-training-at-steele-co-fairgrounds/
LOCATION:Steele County Fairgrounds\, Owatonna\, 55060
CATEGORIES:Member Event,Prospective Member Introductions,Public Event
END:VEVENT
BEGIN:VEVENT
DTSTART;TZID=America/Chicago:20250526T080000
DTEND;TZID=America/Chicago:20250526T110000
DTSTAMP:20260423T151511
CREATED:20250425T161522Z
LAST-MODIFIED:20250425T161522Z
UID:1216-1748246400-1748257200@steelecountymountedposse.com
SUMMARY:Owatonna Memorial Parade
DESCRIPTION:
URL:http://steelecountymountedposse.com/event/owatonna-memorial-parade/
LOCATION:Steele County Fairgrounds\, Owatonna\, 55060
CATEGORIES:Member Event,Public Event
END:VEVENT
BEGIN:VEVENT
DTSTART;TZID=America/Chicago:20250521T183000
DTEND;TZID=America/Chicago:20250521T203000
DTSTAMP:20260423T151511
CREATED:20250425T161112Z
LAST-MODIFIED:20250425T161112Z
UID:1211-1747852200-1747859400@steelecountymountedposse.com
SUMMARY:SCMP meeting & Parade Practice
DESCRIPTION:
URL:http://steelecountymountedposse.com/event/scmp-meeting-parade-practice/
LOCATION:Steele County Fairgrounds\, Owatonna\, 55060
CATEGORIES:Member Event,Prospective Member Introductions,Public Event
END:VEVENT
BEGIN:VEVENT
DTSTART;TZID=America/Chicago:20250521T183000
DTEND;TZID=America/Chicago:20250521T193000
DTSTAMP:20260423T151511
CREATED:20250120T153211Z
LAST-MODIFIED:20250425T162157Z
UID:1158-1747852200-1747855800@steelecountymountedposse.com
SUMMARY:Steele County Posse Meeting/ Parade Practice
DESCRIPTION:
URL:http://steelecountymountedposse.com/event/steele-county-posse-meeting/
LOCATION:Steele County Fairgrounds\, Owatonna\, 55060
CATEGORIES:Member Event,Prospective Member Introductions,Public Event
END:VEVENT
BEGIN:VEVENT
DTSTART;VALUE=DATE:20250517
DTEND;VALUE=DATE:20250518
DTSTAMP:20260423T151511
CREATED:20250425T161338Z
LAST-MODIFIED:20250425T161338Z
UID:1214-1747440000-1747526399@steelecountymountedposse.com
SUMMARY:Sensory Training hosted by Waseca County
DESCRIPTION:
URL:http://steelecountymountedposse.com/event/sensory-training-hosted-by-waseca-county/
LOCATION:Waseca County Fairground
CATEGORIES:Member Event,Prospective Member Introductions,Public Event
END:VEVENT
BEGIN:VEVENT
DTSTART;TZID=America/Chicago:20250507T183000
DTEND;TZID=America/Chicago:20250507T200000
DTSTAMP:20260423T151511
CREATED:20250425T161153Z
LAST-MODIFIED:20250425T161153Z
UID:1209-1746642600-1746648000@steelecountymountedposse.com
SUMMARY:2025 Parade Practice (backup May 14)
DESCRIPTION:
URL:http://steelecountymountedposse.com/event/2025-parade-practice-backup-may-14/
LOCATION:Steele County Fairgrounds\, Owatonna\, 55060
CATEGORIES:Member Event,Prospective Member Introductions,Public Event
END:VEVENT
BEGIN:VEVENT
DTSTART;TZID=America/Chicago:20250416T183000
DTEND;TZID=America/Chicago:20250416T193000
DTSTAMP:20260423T151511
CREATED:20250120T153542Z
LAST-MODIFIED:20250120T153542Z
UID:1162-1744828200-1744831800@steelecountymountedposse.com
SUMMARY:Steele County Posse Monthly Meeting
DESCRIPTION:
URL:http://steelecountymountedposse.com/event/steele-county-posse-monthly-meeting/
LOCATION:TBD
CATEGORIES:Member Event,Prospective Member Introductions,Public Event
END:VEVENT
BEGIN:VEVENT
DTSTART;TZID=America/Chicago:20250329T143000
DTEND;TZID=America/Chicago:20250329T230000
DTSTAMP:20260423T151511
CREATED:20250217T203645Z
LAST-MODIFIED:20250217T203725Z
UID:1197-1743258600-1743289200@steelecountymountedposse.com
SUMMARY:56th Annual Posse Convention March 29\, 2025
DESCRIPTION:State Convention hosted by Steele County
URL:http://steelecountymountedposse.com/event/56th-annual-posse-convention-march-29-2025/
LOCATION:Owatonna VFW\, 135 Oakdale St.\, Owatonna\, MN\, 55060\, United States
CATEGORIES:Member Event,Prospective Member Introductions,Public Event
END:VEVENT
BEGIN:VEVENT
DTSTART;TZID=America/Chicago:20250326T183000
DTEND;TZID=America/Chicago:20250326T213000
DTSTAMP:20260423T151511
CREATED:20250318T195959Z
LAST-MODIFIED:20250318T195959Z
UID:1206-1743013800-1743024600@steelecountymountedposse.com
SUMMARY:ReScheduled Monthly SCMP meeting/ Convention Planning
DESCRIPTION:
URL:http://steelecountymountedposse.com/event/rescheduled-monthly-scmp-meeting-convention-planning/
LOCATION:Owatonna VFW\, 135 Oakdale St.\, Owatonna\, MN\, 55060\, United States
CATEGORIES:Member Event,Prospective Member Introductions,Public Event
END:VEVENT
BEGIN:VEVENT
DTSTART;TZID=America/Chicago:20250319T183000
DTEND;TZID=America/Chicago:20250319T200000
DTSTAMP:20260423T151511
CREATED:20250106T151152Z
LAST-MODIFIED:20250318T195704Z
UID:1141-1742409000-1742414400@steelecountymountedposse.com
SUMMARY:SCMP Monthly meeting - CANCELLED
DESCRIPTION:
URL:http://steelecountymountedposse.com/event/scmp-monthly-meeting-and-convention-workshop/
LOCATION:VFW Hall\, 135 Oakdale St.\, Owatonna\, 55060
CATEGORIES:Member Event,Prospective Member Introductions,Public Event
END:VEVENT
BEGIN:VEVENT
DTSTART;VALUE=DATE:20240813
DTEND;VALUE=DATE:20240819
DTSTAMP:20260423T151511
CREATED:20231205T212514Z
LAST-MODIFIED:20240109T151439Z
UID:868-1723507200-1724025599@steelecountymountedposse.com
SUMMARY:SCFF 2024
DESCRIPTION:
URL:http://steelecountymountedposse.com/event/scff-2024/
LOCATION:Steele County Fair Grounds\, Owatonna\, MN\, 55060\, United States
CATEGORIES:Public Event
END:VEVENT
BEGIN:VEVENT
DTSTART;TZID=America/Chicago:20240717T190000
DTEND;TZID=America/Chicago:20240717T200000
DTSTAMP:20260423T151511
CREATED:20231205T231859Z
LAST-MODIFIED:20240109T151403Z
UID:909-1721242800-1721246400@steelecountymountedposse.com
SUMMARY:Monthly Posse Meeting
DESCRIPTION:
URL:http://steelecountymountedposse.com/event/monthly-posse-meeting-6/
LOCATION:Posse Barn at Steele County Fair Grounds\, Owatonna\, MN\, 55060\, United States
CATEGORIES:Member Event,Public Event
END:VEVENT
BEGIN:VEVENT
DTSTART;TZID=America/Chicago:20240619T190000
DTEND;TZID=America/Chicago:20240619T200000
DTSTAMP:20260423T151511
CREATED:20231205T231702Z
LAST-MODIFIED:20240109T151241Z
UID:905-1718823600-1718827200@steelecountymountedposse.com
SUMMARY:Monthly Posse Meeting for Members and Candidates
DESCRIPTION:
URL:http://steelecountymountedposse.com/event/monthly-posse-meeting-5/
LOCATION:Steele County Detention Center\, 2500 Alexander St. SW\, Owatonna\, MN\, 55060\, United States
CATEGORIES:Member Event,Public Event
END:VEVENT
BEGIN:VEVENT
DTSTART;TZID=America/Chicago:20240515T190000
DTEND;TZID=America/Chicago:20240515T200000
DTSTAMP:20260423T151511
CREATED:20231205T230133Z
LAST-MODIFIED:20240109T151250Z
UID:897-1715799600-1715803200@steelecountymountedposse.com
SUMMARY:Monthly Posse Meeting for Members and Candidates
DESCRIPTION:
URL:http://steelecountymountedposse.com/event/monthly-posse-meeting-4/
LOCATION:Steele County Detention Center\, 2500 Alexander St. SW\, Owatonna\, MN\, 55060\, United States
CATEGORIES:Member Event,Public Event
END:VEVENT
BEGIN:VEVENT
DTSTART;TZID=America/Chicago:20240425T090000
DTEND;TZID=America/Chicago:20240428T170000
DTSTAMP:20260423T151511
CREATED:20231205T232637Z
LAST-MODIFIED:20240109T151313Z
UID:919-1714035600-1714323600@steelecountymountedposse.com
SUMMARY:Minnesota Horse Expo
DESCRIPTION:
URL:http://steelecountymountedposse.com/event/minnesota-horse-expo-2/
LOCATION:Minnesota State Fairgrounds\, 1265 N Snelling North\, St Paul\, MN
CATEGORIES:Public Event
END:VEVENT
BEGIN:VEVENT
DTSTART;TZID=America/Chicago:20240417T190000
DTEND;TZID=America/Chicago:20240417T200000
DTSTAMP:20260423T151511
CREATED:20231205T230017Z
LAST-MODIFIED:20240109T151258Z
UID:895-1713380400-1713384000@steelecountymountedposse.com
SUMMARY:Monthly Posse Meeting for Members and Candidates
DESCRIPTION:
URL:http://steelecountymountedposse.com/event/monthly-posse-meeting-3/
LOCATION:Steele County Detention Center\, 2500 Alexander St. SW\, Owatonna\, MN\, 55060\, United States
CATEGORIES:Member Event,Public Event
END:VEVENT
BEGIN:VEVENT
DTSTART;TZID=America/Chicago:20240406T150000
DTEND;TZID=America/Chicago:20240406T220000
DTSTAMP:20260423T151511
CREATED:20240226T225909Z
LAST-MODIFIED:20240226T230009Z
UID:1063-1712415600-1712440800@steelecountymountedposse.com
SUMMARY:Minnesota State Posse Convention
DESCRIPTION:
URL:http://steelecountymountedposse.com/event/minnesota-state-posse-convention-sibley-county/
LOCATION:Arlington Community Center\, 204 Shamrock Drive\, Arlington\, MN\, 55307
CATEGORIES:Member Event,Public Event
END:VEVENT
BEGIN:VEVENT
DTSTART;TZID=America/Chicago:20240406T143000
DTEND;TZID=America/Chicago:20240406T220000
DTSTAMP:20260423T151511
CREATED:20240406T193050Z
LAST-MODIFIED:20240226T224627Z
UID:1040-1712413800-1712440800@steelecountymountedposse.com
SUMMARY:55th Annual State Posse Convention
DESCRIPTION:
URL:http://steelecountymountedposse.com/event/55th-annual-state-posse-convention/
LOCATION:Arlington Community Center\, 204 Shamrock Drive\, Arlington\, MN\, 55307
CATEGORIES:Member Event,Public Event
END:VEVENT
BEGIN:VEVENT
DTSTART;TZID=America/Chicago:20240320T190000
DTEND;TZID=America/Chicago:20240320T200000
DTSTAMP:20260423T151511
CREATED:20231205T225855Z
LAST-MODIFIED:20240109T151305Z
UID:893-1710961200-1710964800@steelecountymountedposse.com
SUMMARY:Monthly Posse Meeting for Members and Candidates
DESCRIPTION:
URL:http://steelecountymountedposse.com/event/monthly-posse-meeting-2/
LOCATION:Steele County Detention Center\, 2500 Alexander St. SW\, Owatonna\, MN\, 55060\, United States
CATEGORIES:Member Event,Public Event
END:VEVENT
BEGIN:VEVENT
DTSTART;TZID=America/Chicago:20240117T190000
DTEND;TZID=America/Chicago:20240117T200000
DTSTAMP:20260423T151511
CREATED:20240116T205108Z
LAST-MODIFIED:20240116T205435Z
UID:1036-1705518000-1705521600@steelecountymountedposse.com
SUMMARY:Monthly meeting for Members and Prospective Members.
DESCRIPTION:
URL:http://steelecountymountedposse.com/event/monthly-meeting-for-members-and-candidates/
LOCATION:Steele County Detention Center\, 2500 Alexander St. SW\, Owatonna\, MN\, 55060\, United States
CATEGORIES:Member Event,Prospective Member Introductions,Public Event
END:VEVENT
BEGIN:VEVENT
DTSTART;TZID=America/Chicago:20200927T070000
DTEND;TZID=America/Chicago:20200927T150000
DTSTAMP:20260423T151511
CREATED:20240914T123415Z
LAST-MODIFIED:20240226T224536Z
UID:772-1601190000-1601218800@steelecountymountedposse.com
SUMMARY:Annual MN Wagon Train (& Ride)
DESCRIPTION:Registration Form \n** Click on the yellow “Registration Form” above for a copy of the schedule\, registration form & rules.** \n7am – Breakfast served. \n8am – Cowboy Church \n9:30am – Wagon train to leave the Waseca County Fairgrounds covering approx 7 miles. \n11am – Arrive back at the fairgrounds. Clean up and depart by 3pm.
URL:http://steelecountymountedposse.com/event/annual-mn-wagon-train-ride/
CATEGORIES:Member Event,Public Event
END:VEVENT
BEGIN:VEVENT
DTSTART;TZID=America/Chicago:20200926T070000
DTEND;TZID=America/Chicago:20200926T220000
DTSTAMP:20260423T151511
CREATED:20240914T123234Z
LAST-MODIFIED:20240226T224548Z
UID:770-1601103600-1601157600@steelecountymountedposse.com
SUMMARY:Annual MN Wagon Train (& Ride)
DESCRIPTION:Registration Form \n** Click on the yellow “Registration Form” above for a copy of the schedule\, registration form & rules.** \n7am – Breakfast \n9am – Wagon Train to leave the Waseca County Fairgrounds\, covering approx. 14 miles. We will stop for a lunch break; a box lunch will be served. \n2:30pm (approx)- Arrive back at the Fairgrounds \n3:30pm – Arena games in the outdoor arena for riders and nonriders! $5 entry per person/per game with 100% of the money going to Children’s Hospital. Pull up a chair and watch the fun  and silliness unfold! \n6:00pm – Supper served. \n7:30pm – A short program with member posses presenting their donations to Children’s Hospital. \n8pm – Live auction with music to follow
URL:http://steelecountymountedposse.com/event/annual-mn-wagon-train-ride-2/
CATEGORIES:Member Event,Public Event
END:VEVENT
END:VCALENDAR