BEGIN:VCALENDAR
VERSION:2.0
PRODID:-//Steele County Mounted Posse - ECPv6.15.20//NONSGML v1.0//EN
CALSCALE:GREGORIAN
METHOD:PUBLISH
X-ORIGINAL-URL:http://steelecountymountedposse.com
X-WR-CALDESC:Events for Steele County Mounted Posse
REFRESH-INTERVAL;VALUE=DURATION:PT1H
X-Robots-Tag:noindex
X-PUBLISHED-TTL:PT1H
BEGIN:VTIMEZONE
TZID:America/Chicago
BEGIN:DAYLIGHT
TZOFFSETFROM:-0600
TZOFFSETTO:-0500
TZNAME:CDT
DTSTART:20180311T080000
END:DAYLIGHT
BEGIN:STANDARD
TZOFFSETFROM:-0500
TZOFFSETTO:-0600
TZNAME:CST
DTSTART:20181104T070000
END:STANDARD
BEGIN:DAYLIGHT
TZOFFSETFROM:-0600
TZOFFSETTO:-0500
TZNAME:CDT
DTSTART:20190310T080000
END:DAYLIGHT
BEGIN:STANDARD
TZOFFSETFROM:-0500
TZOFFSETTO:-0600
TZNAME:CST
DTSTART:20191103T070000
END:STANDARD
BEGIN:DAYLIGHT
TZOFFSETFROM:-0600
TZOFFSETTO:-0500
TZNAME:CDT
DTSTART:20200308T080000
END:DAYLIGHT
BEGIN:STANDARD
TZOFFSETFROM:-0500
TZOFFSETTO:-0600
TZNAME:CST
DTSTART:20201101T070000
END:STANDARD
BEGIN:DAYLIGHT
TZOFFSETFROM:-0600
TZOFFSETTO:-0500
TZNAME:CDT
DTSTART:20210314T080000
END:DAYLIGHT
BEGIN:STANDARD
TZOFFSETFROM:-0500
TZOFFSETTO:-0600
TZNAME:CST
DTSTART:20211107T070000
END:STANDARD
BEGIN:DAYLIGHT
TZOFFSETFROM:-0600
TZOFFSETTO:-0500
TZNAME:CDT
DTSTART:20220313T080000
END:DAYLIGHT
BEGIN:STANDARD
TZOFFSETFROM:-0500
TZOFFSETTO:-0600
TZNAME:CST
DTSTART:20221106T070000
END:STANDARD
BEGIN:DAYLIGHT
TZOFFSETFROM:-0600
TZOFFSETTO:-0500
TZNAME:CDT
DTSTART:20230312T080000
END:DAYLIGHT
BEGIN:STANDARD
TZOFFSETFROM:-0500
TZOFFSETTO:-0600
TZNAME:CST
DTSTART:20231105T070000
END:STANDARD
BEGIN:DAYLIGHT
TZOFFSETFROM:-0600
TZOFFSETTO:-0500
TZNAME:CDT
DTSTART:20240310T080000
END:DAYLIGHT
BEGIN:STANDARD
TZOFFSETFROM:-0500
TZOFFSETTO:-0600
TZNAME:CST
DTSTART:20241103T070000
END:STANDARD
BEGIN:DAYLIGHT
TZOFFSETFROM:-0600
TZOFFSETTO:-0500
TZNAME:CDT
DTSTART:20250309T080000
END:DAYLIGHT
BEGIN:STANDARD
TZOFFSETFROM:-0500
TZOFFSETTO:-0600
TZNAME:CST
DTSTART:20251102T070000
END:STANDARD
END:VTIMEZONE
BEGIN:VEVENT
DTSTART;TZID=America/Chicago:20240425T090000
DTEND;TZID=America/Chicago:20240428T170000
DTSTAMP:20260423T180225
CREATED:20231205T232637Z
LAST-MODIFIED:20240109T151313Z
UID:919-1714035600-1714323600@steelecountymountedposse.com
SUMMARY:Minnesota Horse Expo
DESCRIPTION:
URL:http://steelecountymountedposse.com/event/minnesota-horse-expo-2/
LOCATION:Minnesota State Fairgrounds\, 1265 N Snelling North\, St Paul\, MN
CATEGORIES:Public Event
END:VEVENT
BEGIN:VEVENT
DTSTART;TZID=America/Chicago:20240417T190000
DTEND;TZID=America/Chicago:20240417T200000
DTSTAMP:20260423T180225
CREATED:20231205T230017Z
LAST-MODIFIED:20240109T151258Z
UID:895-1713380400-1713384000@steelecountymountedposse.com
SUMMARY:Monthly Posse Meeting for Members and Candidates
DESCRIPTION:
URL:http://steelecountymountedposse.com/event/monthly-posse-meeting-3/
LOCATION:Steele County Detention Center\, 2500 Alexander St. SW\, Owatonna\, MN\, 55060\, United States
CATEGORIES:Member Event,Public Event
END:VEVENT
BEGIN:VEVENT
DTSTART;TZID=America/Chicago:20240406T150000
DTEND;TZID=America/Chicago:20240406T220000
DTSTAMP:20260423T180225
CREATED:20240226T225909Z
LAST-MODIFIED:20240226T230009Z
UID:1063-1712415600-1712440800@steelecountymountedposse.com
SUMMARY:Minnesota State Posse Convention
DESCRIPTION:
URL:http://steelecountymountedposse.com/event/minnesota-state-posse-convention-sibley-county/
LOCATION:Arlington Community Center\, 204 Shamrock Drive\, Arlington\, MN\, 55307
CATEGORIES:Member Event,Public Event
END:VEVENT
BEGIN:VEVENT
DTSTART;TZID=America/Chicago:20240406T143000
DTEND;TZID=America/Chicago:20240406T220000
DTSTAMP:20260423T180225
CREATED:20240406T193050Z
LAST-MODIFIED:20240226T224627Z
UID:1040-1712413800-1712440800@steelecountymountedposse.com
SUMMARY:55th Annual State Posse Convention
DESCRIPTION:
URL:http://steelecountymountedposse.com/event/55th-annual-state-posse-convention/
LOCATION:Arlington Community Center\, 204 Shamrock Drive\, Arlington\, MN\, 55307
CATEGORIES:Member Event,Public Event
END:VEVENT
BEGIN:VEVENT
DTSTART;TZID=America/Chicago:20240320T190000
DTEND;TZID=America/Chicago:20240320T200000
DTSTAMP:20260423T180225
CREATED:20231205T225855Z
LAST-MODIFIED:20240109T151305Z
UID:893-1710961200-1710964800@steelecountymountedposse.com
SUMMARY:Monthly Posse Meeting for Members and Candidates
DESCRIPTION:
URL:http://steelecountymountedposse.com/event/monthly-posse-meeting-2/
LOCATION:Steele County Detention Center\, 2500 Alexander St. SW\, Owatonna\, MN\, 55060\, United States
CATEGORIES:Member Event,Public Event
END:VEVENT
BEGIN:VEVENT
DTSTART;TZID=America/Chicago:20240306T190000
DTEND;TZID=America/Chicago:20240306T203000
DTSTAMP:20260423T180225
CREATED:20240307T010008Z
LAST-MODIFIED:20240226T223821Z
UID:1048-1709751600-1709757000@steelecountymountedposse.com
SUMMARY:MSMPA (State Meeting)
DESCRIPTION:
URL:http://steelecountymountedposse.com/event/msmpa-state-meeting/
LOCATION:Waseca DMV 300 State St. N.
CATEGORIES:Member Event
END:VEVENT
BEGIN:VEVENT
DTSTART;TZID=America/Chicago:20240306T190000
DTEND;TZID=America/Chicago:20240306T200000
DTSTAMP:20260423T180225
CREATED:20240226T225145Z
LAST-MODIFIED:20240226T225145Z
UID:1060-1709751600-1709755200@steelecountymountedposse.com
SUMMARY:State Posse Meeting
DESCRIPTION:
URL:http://steelecountymountedposse.com/event/state-posse-meeting/
LOCATION:Waseca DMV 300 State St. N.
CATEGORIES:Member Event
END:VEVENT
BEGIN:VEVENT
DTSTART;TZID=America/Chicago:20240211T080000
DTEND;TZID=America/Chicago:20240211T120000
DTSTAMP:20260423T180226
CREATED:20231205T225511Z
LAST-MODIFIED:20231205T225511Z
UID:888-1707638400-1707652800@steelecountymountedposse.com
SUMMARY:Posse Pancake Breakfast
DESCRIPTION:
URL:http://steelecountymountedposse.com/event/posse-pancake-breakfast/
LOCATION:VFW Hall\, 135 Oakdale St.\, Owatonna\, 55060
END:VEVENT
BEGIN:VEVENT
DTSTART;TZID=America/Chicago:20240117T190000
DTEND;TZID=America/Chicago:20240117T200000
DTSTAMP:20260423T180226
CREATED:20240116T205108Z
LAST-MODIFIED:20240116T205435Z
UID:1036-1705518000-1705521600@steelecountymountedposse.com
SUMMARY:Monthly meeting for Members and Prospective Members.
DESCRIPTION:
URL:http://steelecountymountedposse.com/event/monthly-meeting-for-members-and-candidates/
LOCATION:Steele County Detention Center\, 2500 Alexander St. SW\, Owatonna\, MN\, 55060\, United States
CATEGORIES:Member Event,Prospective Member Introductions,Public Event
END:VEVENT
BEGIN:VEVENT
DTSTART;TZID=America/Chicago:20240110T190000
DTEND;TZID=America/Chicago:20240110T200000
DTSTAMP:20260423T180226
CREATED:20240109T152218Z
LAST-MODIFIED:20240226T224747Z
UID:1028-1704913200-1704916800@steelecountymountedposse.com
SUMMARY:MSMPA Quarterly Meeting
DESCRIPTION:
URL:http://steelecountymountedposse.com/event/msmpa-quarterly-meeting/
LOCATION:Waseca DMV 300 State St. N.
END:VEVENT
BEGIN:VEVENT
DTSTART;TZID=America/Chicago:20200927T070000
DTEND;TZID=America/Chicago:20200927T150000
DTSTAMP:20260423T180226
CREATED:20240914T123415Z
LAST-MODIFIED:20240226T224536Z
UID:772-1601190000-1601218800@steelecountymountedposse.com
SUMMARY:Annual MN Wagon Train (& Ride)
DESCRIPTION:Registration Form \n** Click on the yellow “Registration Form” above for a copy of the schedule\, registration form & rules.** \n7am – Breakfast served. \n8am – Cowboy Church \n9:30am – Wagon train to leave the Waseca County Fairgrounds covering approx 7 miles. \n11am – Arrive back at the fairgrounds. Clean up and depart by 3pm.
URL:http://steelecountymountedposse.com/event/annual-mn-wagon-train-ride/
LOCATION:MN
CATEGORIES:Member Event,Public Event
END:VEVENT
BEGIN:VEVENT
DTSTART;TZID=America/Chicago:20200926T070000
DTEND;TZID=America/Chicago:20200926T220000
DTSTAMP:20260423T180226
CREATED:20240914T123234Z
LAST-MODIFIED:20240226T224548Z
UID:770-1601103600-1601157600@steelecountymountedposse.com
SUMMARY:Annual MN Wagon Train (& Ride)
DESCRIPTION:Registration Form \n** Click on the yellow “Registration Form” above for a copy of the schedule\, registration form & rules.** \n7am – Breakfast \n9am – Wagon Train to leave the Waseca County Fairgrounds\, covering approx. 14 miles. We will stop for a lunch break; a box lunch will be served. \n2:30pm (approx)- Arrive back at the Fairgrounds \n3:30pm – Arena games in the outdoor arena for riders and nonriders! $5 entry per person/per game with 100% of the money going to Children’s Hospital. Pull up a chair and watch the fun  and silliness unfold! \n6:00pm – Supper served. \n7:30pm – A short program with member posses presenting their donations to Children’s Hospital. \n8pm – Live auction with music to follow
URL:http://steelecountymountedposse.com/event/annual-mn-wagon-train-ride-2/
LOCATION:MN
CATEGORIES:Member Event,Public Event
END:VEVENT
BEGIN:VEVENT
DTSTART;TZID=America/Chicago:20200925T140000
DTEND;TZID=America/Chicago:20200925T233000
DTSTAMP:20260423T180226
CREATED:20200807T122500Z
LAST-MODIFIED:20200825T173556Z
UID:768-1601042400-1601076600@steelecountymountedposse.com
SUMMARY:37th Annual MN Wagon Train (& Ride) for Youth
DESCRIPTION:Registration Form \n** Click on the yellow “Registration Form” above for a copy of the schedule\, registration form & rules.** \nWaseca County Fairgrounds will be open for arrival and registration/camping starting at 2:00pm. \n409 8th Ave NE\, Waseca\, MN 56093 \n  \n  \n 
URL:http://steelecountymountedposse.com/event/37th-annual-mn-wagon-train-ride-for-youth/
LOCATION:MN
END:VEVENT
BEGIN:VEVENT
DTSTART;TZID=America/Chicago:20200815T080000
DTEND;TZID=America/Chicago:20200815T170000
DTSTAMP:20260423T180226
CREATED:20200807T124208Z
LAST-MODIFIED:20200807T125136Z
UID:781-1597478400-1597510800@steelecountymountedposse.com
SUMMARY:Search & Rescue
DESCRIPTION:Search & Rescue has been set for Saturday\, August 15th \, 2020\, place to be determined. \nCoffee & rolls at 8:00a.m. With a 9:00 a.m. sharp start. Lunch will be furnished by Sheriff Lon Thiele.
URL:http://steelecountymountedposse.com/event/search-rescue-2/
LOCATION:MN
END:VEVENT
BEGIN:VEVENT
DTSTART;TZID=America/Chicago:20200328T143000
DTEND;TZID=America/Chicago:20200328T220000
DTSTAMP:20260423T180226
CREATED:20191219T190511Z
LAST-MODIFIED:20191219T190511Z
UID:757-1585405800-1585432800@steelecountymountedposse.com
SUMMARY:MN State Posse Convention
DESCRIPTION:Hosted by Goodhue County at Treasure Island Resort & Casino. More info to follow.
URL:http://steelecountymountedposse.com/event/mn-state-posse-convention/
LOCATION:MN
END:VEVENT
BEGIN:VEVENT
DTSTART;TZID=America/Chicago:20200118T180000
DTEND;TZID=America/Chicago:20200118T220000
DTSTAMP:20260423T180226
CREATED:20191219T185201Z
LAST-MODIFIED:20191219T185201Z
UID:751-1579370400-1579384800@steelecountymountedposse.com
SUMMARY:CHRISTMAS PARTY!
DESCRIPTION:SCMP Christmas Party
URL:http://steelecountymountedposse.com/event/christmas-party/
LOCATION:MN
END:VEVENT
BEGIN:VEVENT
DTSTART;TZID=America/Chicago:20200107T180000
DTEND;TZID=America/Chicago:20200107T200000
DTSTAMP:20260423T180226
CREATED:20190507T181545Z
LAST-MODIFIED:20190507T181545Z
UID:605-1578420000-1578427200@steelecountymountedposse.com
SUMMARY:Minnesota State Posse Association Quarterly Meeting
DESCRIPTION:Truckers Inn\, Faribault. If you plan on having dinner be there by 6:00 p.m. Meeting starts promptly at 7:00 p.m.
URL:http://steelecountymountedposse.com/event/minnesota-state-posse-association-quarterly-meeting-2/
LOCATION:MN
END:VEVENT
BEGIN:VEVENT
DTSTART;TZID=America/Chicago:20191118T183000
DTEND;TZID=America/Chicago:20191118T203000
DTSTAMP:20260423T180226
CREATED:20190507T181447Z
LAST-MODIFIED:20190507T181447Z
UID:603-1574101800-1574109000@steelecountymountedposse.com
SUMMARY:Monthly Meeting - Election of Officers
DESCRIPTION:Annual meeting with election of officers\, 7:00 p.m. at the Detention Center. Executive committee will meet at 6:30 p.m.
URL:http://steelecountymountedposse.com/event/monthly-meeting-election-of-officers-2/
LOCATION:MN
END:VEVENT
BEGIN:VEVENT
DTSTART;TZID=America/Chicago:20191005T080000
DTEND;TZID=America/Chicago:20191005T170000
DTSTAMP:20260423T180226
CREATED:20190319T165557Z
LAST-MODIFIED:20190507T181301Z
UID:572-1570262400-1570294800@steelecountymountedposse.com
SUMMARY:Search & Rescue
DESCRIPTION:Search and Rescue\, 8:00 a.m. coffee and rolls\, Search and Rescue will start at 9:00 a.m. Lunch will be provided. \nContingency date will be Saturday\, October 12th\, 2019. \nMore info on this when available.
URL:http://steelecountymountedposse.com/event/search-rescue/
LOCATION:MN
END:VEVENT
BEGIN:VEVENT
DTSTART;VALUE=DATE:20190906
DTEND;VALUE=DATE:20190909
DTSTAMP:20260423T180226
CREATED:20190319T165403Z
LAST-MODIFIED:20190319T165403Z
UID:570-1567728000-1567987199@steelecountymountedposse.com
SUMMARY:MSMPA Wagon Train
DESCRIPTION:Wagon Train Hosted by Waseca County at the Waseca County Fairgrounds. \nMore info on this as it is available.
URL:http://steelecountymountedposse.com/event/msmpa-wagon-train/
LOCATION:MN
END:VEVENT
BEGIN:VEVENT
DTSTART;TZID=America/Chicago:20190903T180000
DTEND;TZID=America/Chicago:20190903T200000
DTSTAMP:20260423T180226
CREATED:20190507T181100Z
LAST-MODIFIED:20190507T181100Z
UID:596-1567533600-1567540800@steelecountymountedposse.com
SUMMARY:Minnesota State Posse Association Quarterly Meeting
DESCRIPTION:Truckers Inn\, Faribault. If you plan on having dinner be there by 6:00 p.m. Meeting starts promptly at 7:00 p.m.
URL:http://steelecountymountedposse.com/event/minnesota-state-posse-association-quarterly-meeting/
LOCATION:MN
END:VEVENT
BEGIN:VEVENT
DTSTART;VALUE=DATE:20190813
DTEND;VALUE=DATE:20190819
DTSTAMP:20260423T180226
CREATED:20190125T191838Z
LAST-MODIFIED:20190125T191838Z
UID:544-1565654400-1566172799@steelecountymountedposse.com
SUMMARY:Steele County Free Fair
DESCRIPTION:
URL:http://steelecountymountedposse.com/event/steele-county-free-fair-9/
LOCATION:MN
END:VEVENT
BEGIN:VEVENT
DTSTART;TZID=America/Chicago:20190812T183000
DTEND;TZID=America/Chicago:20190812T203000
DTSTAMP:20260423T180226
CREATED:20190319T165157Z
LAST-MODIFIED:20190319T165157Z
UID:568-1565634600-1565641800@steelecountymountedposse.com
SUMMARY:Monthly Meeting - Posse Barn
DESCRIPTION:Meeting at the Fairgrounds posse barn\, executive committee will meet at 6:30 p.m. & 7:00 p.m. regular meeting.\n**PLEASE NOTE THIS IS A WEEK EARLY DUE TO FAIR STARTING ON THE 13th!
URL:http://steelecountymountedposse.com/event/monthly-meeting-posse-barn-3/
LOCATION:MN
END:VEVENT
BEGIN:VEVENT
DTSTART;TZID=America/Chicago:20190811T110000
DTEND;TZID=America/Chicago:20190811T143000
DTSTAMP:20260423T180226
CREATED:20190319T164832Z
LAST-MODIFIED:20190319T164852Z
UID:566-1565521200-1565533800@steelecountymountedposse.com
SUMMARY:Barn Set Up
DESCRIPTION:Barn set up for Fair\, between 11:00 a.m. – noon. Pot luck lunch afterwards\, bring a dish to pass! Posse will furnish plates\, utensils and beverages.
URL:http://steelecountymountedposse.com/event/barn-set-up/
LOCATION:MN
END:VEVENT
END:VCALENDAR