BEGIN:VCALENDAR
VERSION:2.0
PRODID:-//Steele County Mounted Posse - ECPv6.15.20//NONSGML v1.0//EN
CALSCALE:GREGORIAN
METHOD:PUBLISH
X-WR-CALNAME:Steele County Mounted Posse
X-ORIGINAL-URL:http://steelecountymountedposse.com
X-WR-CALDESC:Events for Steele County Mounted Posse
REFRESH-INTERVAL;VALUE=DURATION:PT1H
X-Robots-Tag:noindex
X-PUBLISHED-TTL:PT1H
BEGIN:VTIMEZONE
TZID:America/Chicago
BEGIN:DAYLIGHT
TZOFFSETFROM:-0600
TZOFFSETTO:-0500
TZNAME:CDT
DTSTART:20180311T080000
END:DAYLIGHT
BEGIN:STANDARD
TZOFFSETFROM:-0500
TZOFFSETTO:-0600
TZNAME:CST
DTSTART:20181104T070000
END:STANDARD
BEGIN:DAYLIGHT
TZOFFSETFROM:-0600
TZOFFSETTO:-0500
TZNAME:CDT
DTSTART:20190310T080000
END:DAYLIGHT
BEGIN:STANDARD
TZOFFSETFROM:-0500
TZOFFSETTO:-0600
TZNAME:CST
DTSTART:20191103T070000
END:STANDARD
BEGIN:DAYLIGHT
TZOFFSETFROM:-0600
TZOFFSETTO:-0500
TZNAME:CDT
DTSTART:20200308T080000
END:DAYLIGHT
BEGIN:STANDARD
TZOFFSETFROM:-0500
TZOFFSETTO:-0600
TZNAME:CST
DTSTART:20201101T070000
END:STANDARD
END:VTIMEZONE
BEGIN:VEVENT
DTSTART;TZID=America/Chicago:20190811T110000
DTEND;TZID=America/Chicago:20190811T143000
DTSTAMP:20260424T055620
CREATED:20190319T164832Z
LAST-MODIFIED:20190319T164852Z
UID:566-1565521200-1565533800@steelecountymountedposse.com
SUMMARY:Barn Set Up
DESCRIPTION:Barn set up for Fair\, between 11:00 a.m. – noon. Pot luck lunch afterwards\, bring a dish to pass! Posse will furnish plates\, utensils and beverages.
URL:http://steelecountymountedposse.com/event/barn-set-up/
END:VEVENT
END:VCALENDAR