BEGIN:VCALENDAR
VERSION:2.0
PRODID:-//Steele County Mounted Posse - ECPv6.15.20//NONSGML v1.0//EN
CALSCALE:GREGORIAN
METHOD:PUBLISH
X-WR-CALNAME:Steele County Mounted Posse
X-ORIGINAL-URL:http://steelecountymountedposse.com
X-WR-CALDESC:Events for Steele County Mounted Posse
REFRESH-INTERVAL;VALUE=DURATION:PT1H
X-Robots-Tag:noindex
X-PUBLISHED-TTL:PT1H
BEGIN:VTIMEZONE
TZID:America/Chicago
BEGIN:DAYLIGHT
TZOFFSETFROM:-0600
TZOFFSETTO:-0500
TZNAME:CDT
DTSTART:20230312T080000
END:DAYLIGHT
BEGIN:STANDARD
TZOFFSETFROM:-0500
TZOFFSETTO:-0600
TZNAME:CST
DTSTART:20231105T070000
END:STANDARD
BEGIN:DAYLIGHT
TZOFFSETFROM:-0600
TZOFFSETTO:-0500
TZNAME:CDT
DTSTART:20240310T080000
END:DAYLIGHT
BEGIN:STANDARD
TZOFFSETFROM:-0500
TZOFFSETTO:-0600
TZNAME:CST
DTSTART:20241103T070000
END:STANDARD
BEGIN:DAYLIGHT
TZOFFSETFROM:-0600
TZOFFSETTO:-0500
TZNAME:CDT
DTSTART:20250309T080000
END:DAYLIGHT
BEGIN:STANDARD
TZOFFSETFROM:-0500
TZOFFSETTO:-0600
TZNAME:CST
DTSTART:20251102T070000
END:STANDARD
END:VTIMEZONE
BEGIN:VEVENT
DTSTART;TZID=America/Chicago:20240211T080000
DTEND;TZID=America/Chicago:20240211T120000
DTSTAMP:20260425T072651
CREATED:20231205T225511Z
LAST-MODIFIED:20231205T225511Z
UID:888-1707638400-1707652800@steelecountymountedposse.com
SUMMARY:Posse Pancake Breakfast
DESCRIPTION:
URL:http://steelecountymountedposse.com/event/posse-pancake-breakfast/
LOCATION:VFW Hall\, 135 Oakdale St.\, Owatonna\, 55060
END:VEVENT
END:VCALENDAR